BEGIN:VCALENDAR
VERSION:2.0
PRODID:-//Black Rose - ECPv6.15.20//NONSGML v1.0//EN
CALSCALE:GREGORIAN
METHOD:PUBLISH
X-WR-CALNAME:Black Rose
X-ORIGINAL-URL:https://br.org
X-WR-CALDESC:Events for Black Rose
REFRESH-INTERVAL;VALUE=DURATION:PT1H
X-Robots-Tag:noindex
X-PUBLISHED-TTL:PT1H
BEGIN:VTIMEZONE
TZID:America/New_York
BEGIN:DAYLIGHT
TZOFFSETFROM:-0500
TZOFFSETTO:-0400
TZNAME:EDT
DTSTART:20250309T070000
END:DAYLIGHT
BEGIN:STANDARD
TZOFFSETFROM:-0400
TZOFFSETTO:-0500
TZNAME:EST
DTSTART:20251102T060000
END:STANDARD
BEGIN:DAYLIGHT
TZOFFSETFROM:-0500
TZOFFSETTO:-0400
TZNAME:EDT
DTSTART:20260308T070000
END:DAYLIGHT
BEGIN:STANDARD
TZOFFSETFROM:-0400
TZOFFSETTO:-0500
TZNAME:EST
DTSTART:20261101T060000
END:STANDARD
BEGIN:DAYLIGHT
TZOFFSETFROM:-0500
TZOFFSETTO:-0400
TZNAME:EDT
DTSTART:20270314T070000
END:DAYLIGHT
BEGIN:STANDARD
TZOFFSETFROM:-0400
TZOFFSETTO:-0500
TZNAME:EST
DTSTART:20271107T060000
END:STANDARD
END:VTIMEZONE
BEGIN:VEVENT
DTSTART;TZID=America/New_York:20260106T183000
DTEND;TZID=America/New_York:20260106T200000
DTSTAMP:20260421T053125
CREATED:20250430T004106Z
LAST-MODIFIED:20250722T184913Z
UID:10000565-1767724200-1767729600@br.org
SUMMARY:Black Rose Munch
DESCRIPTION:Join us before Tuesday Education for our BYOD (Bring Your Own Dinner) Munch! Bring a brown bag from home or your favorite takeout to the Crucible and get to know people before class. Come enjoy food\, fun discussions\, and meet like-minded folks.
URL:https://br.org/event/black-rose-munch-fy26/2026-01-06/
LOCATION:The Crucible\, 412 V St NE\, Washington\, DC\, United States
CATEGORIES:Education
END:VEVENT
BEGIN:VEVENT
DTSTART;TZID=America/New_York:20260106T200000
DTEND;TZID=America/New_York:20260106T213000
DTSTAMP:20260421T053125
CREATED:20251125T022825Z
LAST-MODIFIED:20251125T023009Z
UID:10000669-1767729600-1767735000@br.org
SUMMARY:Topping for the Long Run with AbundantMischief
DESCRIPTION:Accessibility accommodations are available upon request to accessibility@br.org. Please give us two weeks’ notice. \n\nClass Description\nDoes your body always feel cranky by the last day of a con? Do you have chronic injuries that flare up or get worse when you top certain activities or longer scenes? \nUsing techniques from sports medicine\, as well as my own lived experience topping longer scenes while managing chronic health challenges\, this class will empower you to keep your body feeling better without sacrificing your kinky joy. \nThis class will include: \n\nModifications to minimize stress on joints when handling rope and impact toys\nPhysical aftercare tips for tops\nSimple exercises specifically geared towards preventing injuries from topping impact\, rough body play\, rope bondage\, and strapon play\nStrategies for managing your energy while topping longer scenes\, multiple scenes in the same day\, or increasing the frequency of play \n\nThis class is “participation appreciated but not required” and doesn’t require a class partner (all participatory parts can be done solo) \nPresenter Bio\nAbundantMischief is a queer polyamorous toppy switch\, gleeful sadomasochist\, and enthusiastic boot fetishist. She has been active in the Northeast US kink community for over 16 years\, and enjoys bringing crossover knowledge from her 2 decades of experience as a professional dancer\, circus artist\, and performing arts educator into her kink teaching. She has taught for Dark Odyssey\, TES\, TESFest\, Tethered Together\, IMsLBB\, Pragmatic Kink\, MAsT: Auckland\, CUFF\, House of Kush\, House of SCK\, and Black Rose. \n\nTo minimize disruption\, there will be no admittance after 8:30. \nThis is not a play party. Do not attempt to engage in scenes or solicit others for play\, except for labbing as part of a workshop-style class. \nTickets are $5 for Black Rose Members and Members of Reciprocal Groups with their Membership Card and $10 for non-members. \nAll ticket sales are at the door. \nEmail info@br.org for more information about Black Rose or its events. \nIf you have questions or would like to request a class topic\, please email education@br.org
URL:https://br.org/event/topping-for-the-long-run-with-abundantmischief/
LOCATION:The Crucible\, 412 V St NE\, Washington\, DC\, United States
CATEGORIES:Education,Tuesday Night
ATTACH;FMTTYPE=image/png:https://br.org/wp-content/uploads/2023/11/BR-Education-Header-Photo.png
ORGANIZER;CN="Education Team":MAILTO:education@br.org
END:VEVENT
END:VCALENDAR