BEGIN:VCALENDAR
VERSION:2.0
PRODID:-//Black Rose - ECPv6.15.20//NONSGML v1.0//EN
CALSCALE:GREGORIAN
METHOD:PUBLISH
X-WR-CALNAME:Black Rose
X-ORIGINAL-URL:https://br.org
X-WR-CALDESC:Events for Black Rose
REFRESH-INTERVAL;VALUE=DURATION:PT1H
X-Robots-Tag:noindex
X-PUBLISHED-TTL:PT1H
BEGIN:VTIMEZONE
TZID:America/New_York
BEGIN:DAYLIGHT
TZOFFSETFROM:-0500
TZOFFSETTO:-0400
TZNAME:EDT
DTSTART:20250309T070000
END:DAYLIGHT
BEGIN:STANDARD
TZOFFSETFROM:-0400
TZOFFSETTO:-0500
TZNAME:EST
DTSTART:20251102T060000
END:STANDARD
BEGIN:DAYLIGHT
TZOFFSETFROM:-0500
TZOFFSETTO:-0400
TZNAME:EDT
DTSTART:20260308T070000
END:DAYLIGHT
BEGIN:STANDARD
TZOFFSETFROM:-0400
TZOFFSETTO:-0500
TZNAME:EST
DTSTART:20261101T060000
END:STANDARD
BEGIN:DAYLIGHT
TZOFFSETFROM:-0500
TZOFFSETTO:-0400
TZNAME:EDT
DTSTART:20270314T070000
END:DAYLIGHT
BEGIN:STANDARD
TZOFFSETFROM:-0400
TZOFFSETTO:-0500
TZNAME:EST
DTSTART:20271107T060000
END:STANDARD
END:VTIMEZONE
BEGIN:VEVENT
DTSTART;TZID=America/New_York:20260303T183000
DTEND;TZID=America/New_York:20260303T200000
DTSTAMP:20260421T004054
CREATED:20250430T004106Z
LAST-MODIFIED:20250722T184913Z
UID:10000573-1772562600-1772568000@br.org
SUMMARY:Black Rose Munch
DESCRIPTION:Join us before Tuesday Education for our BYOD (Bring Your Own Dinner) Munch! Bring a brown bag from home or your favorite takeout to the Crucible and get to know people before class. Come enjoy food\, fun discussions\, and meet like-minded folks.
URL:https://br.org/event/black-rose-munch-fy26/2026-03-03/
LOCATION:The Crucible\, 412 V St NE\, Washington\, DC\, United States
CATEGORIES:Education
END:VEVENT
BEGIN:VEVENT
DTSTART;TZID=America/New_York:20260303T200000
DTEND;TZID=America/New_York:20260303T213000
DTSTAMP:20260421T004054
CREATED:20260116T135353Z
LAST-MODIFIED:20260301T160906Z
UID:10000709-1772568000-1772573400@br.org
SUMMARY:Community Outreach: Whips Whips and More Whips with Leather Rob
DESCRIPTION:Accessibility accommodations are available upon request to accessibility@br.org. Please give us two weeks’ notice. \n\nClass Description\nWelcome to the wonderful world of whips. From floggers to bullwhips\, and quirts to crops. We’re going to go over the wide variety of whips\, their history and how to effectively incorporate them into your scenes. As well as discussing their construction and materials and how that relays to the sensations they give. \nPresenter Bio\nRob is a whip maker and whip enthusiast who has been in the DMV kink community since moving there in 2018. Coming from rural North Carolina to an amazing hotspot for debauchery\, he found himself being drawn more and more to teaching and education. He enjoys working hands-on with others to improve their skills. \nThis is a community outreach event and attendance is free of charge to current members and folks newer to Black Rose.\n\nTo minimize disruption\, there will be no admittance after 8:30. \nThis is not a play party. Do not attempt to engage in scenes or solicit others for play\, except for labbing as part of a workshop-style class. \nAll ticket sales are at the door. \nEmail info@br.org for more information about Black Rose or its events. \nIf you have questions or would like to request a class topic\, please email education@br.org
URL:https://br.org/event/whips-whips-and-more-whips-with-leather-rob/
LOCATION:The Crucible\, 412 V St NE\, Washington\, DC\, United States
CATEGORIES:Education,Tuesday Night
ATTACH;FMTTYPE=image/png:https://br.org/wp-content/uploads/2023/11/BR-Education-Header-Photo.png
ORGANIZER;CN="Education Team":MAILTO:education@br.org
END:VEVENT
END:VCALENDAR