BEGIN:VCALENDAR
VERSION:2.0
PRODID:-//Black Rose - ECPv6.15.20//NONSGML v1.0//EN
CALSCALE:GREGORIAN
METHOD:PUBLISH
X-WR-CALNAME:Black Rose
X-ORIGINAL-URL:https://br.org
X-WR-CALDESC:Events for Black Rose
REFRESH-INTERVAL;VALUE=DURATION:PT1H
X-Robots-Tag:noindex
X-PUBLISHED-TTL:PT1H
BEGIN:VTIMEZONE
TZID:America/New_York
BEGIN:DAYLIGHT
TZOFFSETFROM:-0500
TZOFFSETTO:-0400
TZNAME:EDT
DTSTART:20250309T070000
END:DAYLIGHT
BEGIN:STANDARD
TZOFFSETFROM:-0400
TZOFFSETTO:-0500
TZNAME:EST
DTSTART:20251102T060000
END:STANDARD
BEGIN:DAYLIGHT
TZOFFSETFROM:-0500
TZOFFSETTO:-0400
TZNAME:EDT
DTSTART:20260308T070000
END:DAYLIGHT
BEGIN:STANDARD
TZOFFSETFROM:-0400
TZOFFSETTO:-0500
TZNAME:EST
DTSTART:20261101T060000
END:STANDARD
BEGIN:DAYLIGHT
TZOFFSETFROM:-0500
TZOFFSETTO:-0400
TZNAME:EDT
DTSTART:20270314T070000
END:DAYLIGHT
BEGIN:STANDARD
TZOFFSETFROM:-0400
TZOFFSETTO:-0500
TZNAME:EST
DTSTART:20271107T060000
END:STANDARD
END:VTIMEZONE
BEGIN:VEVENT
DTSTART;TZID=America/New_York:20260421T183000
DTEND;TZID=America/New_York:20260421T200000
DTSTAMP:20260421T014534
CREATED:20250430T004106Z
LAST-MODIFIED:20250722T184913Z
UID:10000580-1776796200-1776801600@br.org
SUMMARY:Black Rose Munch
DESCRIPTION:Join us before Tuesday Education for our BYOD (Bring Your Own Dinner) Munch! Bring a brown bag from home or your favorite takeout to the Crucible and get to know people before class. Come enjoy food\, fun discussions\, and meet like-minded folks.
URL:https://br.org/event/black-rose-munch-fy26/2026-04-21/
LOCATION:The Crucible\, 412 V St NE\, Washington\, DC\, United States
CATEGORIES:Education
END:VEVENT
BEGIN:VEVENT
DTSTART;TZID=America/New_York:20260421T200000
DTEND;TZID=America/New_York:20260421T213000
DTSTAMP:20260421T014534
CREATED:20260301T165949Z
LAST-MODIFIED:20260301T171459Z
UID:10000740-1776801600-1776807000@br.org
SUMMARY:Caress\, Kick\, and Stomp! Jumping into Bootplay with WhompingWillow and MartiPaige
DESCRIPTION:Accessibility accommodations are available upon request to accessibility@br.org. Please give us two weeks’ notice. \n\nClass Description\nCurious about trampling with care or hoping to get a kick in your next scene?\nFrom your converse and your docs to your thigh-high heels\, footwear is a common category of fetish and a surprisingly versatile set of toys. We will explore ways to play with sensation\, impact\, power\, and pressure\, as well as top ergonomics and scene design. \n\nWe will cover far more than how to safely step and stomp on your partner\nThis class will help you find your right fit:\nkicking the shit out\nFuck your partner or fuck them up\nas well as top ergonomics and scene design in this walking tour of boot play! \nPresenter Bio\nMartiPaige (she/her) is a queer\, sadomasochistic\, orange-flagging switch. She is an internationally recognized presenter\, focusing on sharps\, edge play\, and bottom-focused content\, as well as organizing events in Philadelphia (Crave\, Deep End)\, Baltimore (Brave)\, and the DMV (Fornucopia). Outside of her professional roles in MartiParti Events and The Gritty Group\, Marti has a deep passion for power exchange\, queer expression\, and her extremely spicy kitty\, Stormy. Willow is a queer sadomasochistic switch who will never tire of rope\, sharps\, or pressure points. Equally happy with a goofy\, laugh-out-loud or nail-bitingly intense scene\, kink is a core part of who he is and what he does. He has a flair for getting others hooked with his approachable\, engaging\, and always entertaining teaching style. Willow shares his infectious excitement through a wide variety of hands-on classes\, and has garnered an international following via online education during the pandemic\, which you can see alongside his other shenanigans on Patreon and Fetlife: https://linktr.ee/TheWillowShow\n \n\nTo minimize disruption\, there will be no admittance after 8:30. \nThis is not a play party. Do not attempt to engage in scenes or solicit others for play\, except for labbing as part of a workshop-style class. \nTickets are $5 for Black Rose Members and Members of Reciprocal Groups with their Membership Card and $10 for non-members. \nAll ticket sales are at the door. \nEmail info@br.org for more information about Black Rose or its events. \nIf you have questions or would like to request a class topic\, please email education@br.org
URL:https://br.org/event/caress-kick-and-stomp-jumping-into-bootplay-with-whompingwillow-and-martipaige/
LOCATION:The Crucible\, 412 V St NE\, Washington\, DC\, United States
CATEGORIES:Education,Tuesday Night
ATTACH;FMTTYPE=image/png:https://br.org/wp-content/uploads/2023/11/BR-Education-Header-Photo.png
ORGANIZER;CN="Education Team":MAILTO:education@br.org
END:VEVENT
END:VCALENDAR