BEGIN:VCALENDAR
VERSION:2.0
PRODID:-//Black Rose - ECPv6.15.20//NONSGML v1.0//EN
CALSCALE:GREGORIAN
METHOD:PUBLISH
X-ORIGINAL-URL:https://br.org
X-WR-CALDESC:Events for Black Rose
REFRESH-INTERVAL;VALUE=DURATION:PT1H
X-Robots-Tag:noindex
X-PUBLISHED-TTL:PT1H
BEGIN:VTIMEZONE
TZID:America/New_York
BEGIN:DAYLIGHT
TZOFFSETFROM:-0500
TZOFFSETTO:-0400
TZNAME:EDT
DTSTART:20230312T070000
END:DAYLIGHT
BEGIN:STANDARD
TZOFFSETFROM:-0400
TZOFFSETTO:-0500
TZNAME:EST
DTSTART:20231105T060000
END:STANDARD
BEGIN:DAYLIGHT
TZOFFSETFROM:-0500
TZOFFSETTO:-0400
TZNAME:EDT
DTSTART:20240310T070000
END:DAYLIGHT
BEGIN:STANDARD
TZOFFSETFROM:-0400
TZOFFSETTO:-0500
TZNAME:EST
DTSTART:20241103T060000
END:STANDARD
BEGIN:DAYLIGHT
TZOFFSETFROM:-0500
TZOFFSETTO:-0400
TZNAME:EDT
DTSTART:20250309T070000
END:DAYLIGHT
BEGIN:STANDARD
TZOFFSETFROM:-0400
TZOFFSETTO:-0500
TZNAME:EST
DTSTART:20251102T060000
END:STANDARD
END:VTIMEZONE
BEGIN:VEVENT
DTSTART;TZID=America/New_York:20240423T183000
DTEND;TZID=America/New_York:20240423T200000
DTSTAMP:20260420T100645
CREATED:20240227T184639Z
LAST-MODIFIED:20240227T184639Z
UID:10000127-1713897000-1713902400@br.org
SUMMARY:Black Rose Munch
DESCRIPTION:Join us before Tuesday Education for our BYOD (Bring Your Own Dinner) Munch! Bring a brown bag from home or your favorite takeout to the Crucible and get to know people before class. Come enjoy food\, fun discussions\, and meet like-minded folks.
URL:https://br.org/event/black-rose-munch/2024-04-23/
LOCATION:The Crucible\, 412 V St NE\, Washington\, DC\, United States
CATEGORIES:Education
END:VEVENT
BEGIN:VEVENT
DTSTART;TZID=America/New_York:20240423T200000
DTEND;TZID=America/New_York:20240423T213000
DTSTAMP:20260420T100645
CREATED:20240324T172410Z
LAST-MODIFIED:20240324T172410Z
UID:10000144-1713902400-1713907800@br.org
SUMMARY:Cathartic Scenes with Mr. Fox
DESCRIPTION:Class Description\nFor many\, kink is about fun\, about pleasure\, about pain\, about growth\, about orgasms\, but sometimes\, it’s just about release. Not speaking about orgasmic release\, but that full-body\, mind-melting out the ears\, all browser tabs closed\, tears streaming down the cheeks\, body exhaustion cathartic release. Whether with the goal of pushing the body\, reaching a point of physical\, emotional\, and cognitive weightlessness\, or a controlled and deliberate introduction of hardship and ordeal\, cathartic scenes can be extremely intricate and can have profound results. Learn and discuss the potential ins and outs that are involved with this style of play outside of a formal ordeal setting. \nPresenter Bio\nMr. Fox (they/he) is a queer\, neurodivergent & disabled\, polyamorous kinkster with experience as a Dom\, sub\, and primal player. Beyond play\, Fox is passionate and nerdy about mental health education and advocacy\, community organizing\, and facilitating connection and growth. Fox is a proud co-founder of The Compound at Camp Social Club\, and the founder of Indecent Enterprises\, hosting monthly community & play events in the DC\, MD\, and VA area from 2012 to 2021. \n\nAll ticket sales are at the door.\n\nTickets are $5 for Black Rose Members and Members of Reciprocal Groups with their Membership Card and $10 for non-members. \n\nEmail info@br.org for more information about Black Rose or its events. \nAccessibility accommodations are available upon request to accessibility@br.org. Please give us two weeks’ notice. \nIf you have questions or would like to request a class topic\, please email education@br.org
URL:https://br.org/event/cathartic-scenes-with-mr-fox/
LOCATION:The Crucible\, 412 V St NE\, Washington\, DC\, United States
CATEGORIES:Education,Tuesday Night
ATTACH;FMTTYPE=image/png:https://br.org/wp-content/uploads/2023/11/BR-Education-Header-Photo.png
ORGANIZER;CN="Education Team":MAILTO:education@br.org
END:VEVENT
END:VCALENDAR