BEGIN:VCALENDAR
VERSION:2.0
PRODID:-//Black Rose - ECPv6.15.20//NONSGML v1.0//EN
CALSCALE:GREGORIAN
METHOD:PUBLISH
X-ORIGINAL-URL:https://br.org
X-WR-CALDESC:Events for Black Rose
REFRESH-INTERVAL;VALUE=DURATION:PT1H
X-Robots-Tag:noindex
X-PUBLISHED-TTL:PT1H
BEGIN:VTIMEZONE
TZID:America/New_York
BEGIN:DAYLIGHT
TZOFFSETFROM:-0500
TZOFFSETTO:-0400
TZNAME:EDT
DTSTART:20240310T070000
END:DAYLIGHT
BEGIN:STANDARD
TZOFFSETFROM:-0400
TZOFFSETTO:-0500
TZNAME:EST
DTSTART:20241103T060000
END:STANDARD
BEGIN:DAYLIGHT
TZOFFSETFROM:-0500
TZOFFSETTO:-0400
TZNAME:EDT
DTSTART:20250309T070000
END:DAYLIGHT
BEGIN:STANDARD
TZOFFSETFROM:-0400
TZOFFSETTO:-0500
TZNAME:EST
DTSTART:20251102T060000
END:STANDARD
BEGIN:DAYLIGHT
TZOFFSETFROM:-0500
TZOFFSETTO:-0400
TZNAME:EDT
DTSTART:20260308T070000
END:DAYLIGHT
BEGIN:STANDARD
TZOFFSETFROM:-0400
TZOFFSETTO:-0500
TZNAME:EST
DTSTART:20261101T060000
END:STANDARD
END:VTIMEZONE
BEGIN:VEVENT
DTSTART;TZID=America/New_York:20250909T183000
DTEND;TZID=America/New_York:20250909T200000
DTSTAMP:20260423T210035
CREATED:20250430T004106Z
LAST-MODIFIED:20250722T184913Z
UID:10000548-1757442600-1757448000@br.org
SUMMARY:Black Rose Munch
DESCRIPTION:Join us before Tuesday Education for our BYOD (Bring Your Own Dinner) Munch! Bring a brown bag from home or your favorite takeout to the Crucible and get to know people before class. Come enjoy food\, fun discussions\, and meet like-minded folks.
URL:https://br.org/event/black-rose-munch-fy26/2025-09-09/
LOCATION:The Crucible\, 412 V St NE\, Washington\, DC\, United States
CATEGORIES:Education
END:VEVENT
BEGIN:VEVENT
DTSTART;TZID=America/New_York:20250909T200000
DTEND;TZID=America/New_York:20250909T213000
DTSTAMP:20260423T210035
CREATED:20250715T235517Z
LAST-MODIFIED:20250729T005340Z
UID:10000593-1757448000-1757453400@br.org
SUMMARY:Brats Versus Cunts with ChaoticElle
DESCRIPTION:Class Description\nBrattiness can add a spark of playful resistance to BDSM dynamics\, but where’s the line between being a fun brat and crossing into unpleasant or disrespectful behavior? This class dives into the art of consensual brattiness\, exploring how to communicate boundaries\, maintain respect\, and avoid disruptive actions that undermine trust. We’ll also tackle the stigma surrounding brats\, celebrating their unique role in kink dynamics and how they can enhance connection and creativity in play. Whether you’re a brat\, a brat-tamer\, or just curious about incorporating this dynamic\, this session will help you embrace the fun while fostering respect and consent. \nPresenter Bio\nChaotic Elle (she/they) is the founder of The SexEd We Missed\, where they offer inclusive pleasure-focused sex education through 1:1 coaching\, workshops\, and community learning spaces. Elle holds a Master’s degree in Sexual Health and brings years of experience teaching both vanilla and kink-focused content. They’ve led sessions at kink camps\, consulted with sexual health nonprofits across the globe\, and trained medical professionals on how to have better conversations about sex. Their teaching blends evidence-based info\, empowerment\, care\, and a commitment to unlearning shame—whether they’re talking about pain\, power\, pleasure\, or the messy in-between. \nTickets are $5 for Black Rose Members and Members of Reciprocal Groups with their Membership Card and $10 for non-members. \nAll ticket sales are at the door. \n\nEmail info@br.org for more information about Black Rose or its events. \nAccessibility accommodations are available upon request to accessibility@br.org. Please give us two weeks’ notice. \nIf you have questions or would like to request a class topic\, please email education@br.org
URL:https://br.org/event/brats-versus-cunts-with-chaoticelle/
LOCATION:The Crucible\, 412 V St NE\, Washington\, DC\, United States
CATEGORIES:Education,Tuesday Night
ATTACH;FMTTYPE=image/png:https://br.org/wp-content/uploads/2023/11/BR-Education-Header-Photo.png
ORGANIZER;CN="Education Team":MAILTO:education@br.org
END:VEVENT
END:VCALENDAR