BEGIN:VCALENDAR
VERSION:2.0
PRODID:-//Black Rose - ECPv6.15.20//NONSGML v1.0//EN
CALSCALE:GREGORIAN
METHOD:PUBLISH
X-ORIGINAL-URL:https://br.org
X-WR-CALDESC:Events for Black Rose
REFRESH-INTERVAL;VALUE=DURATION:PT1H
X-Robots-Tag:noindex
X-PUBLISHED-TTL:PT1H
BEGIN:VTIMEZONE
TZID:America/New_York
BEGIN:DAYLIGHT
TZOFFSETFROM:-0500
TZOFFSETTO:-0400
TZNAME:EDT
DTSTART:20240310T070000
END:DAYLIGHT
BEGIN:STANDARD
TZOFFSETFROM:-0400
TZOFFSETTO:-0500
TZNAME:EST
DTSTART:20241103T060000
END:STANDARD
BEGIN:DAYLIGHT
TZOFFSETFROM:-0500
TZOFFSETTO:-0400
TZNAME:EDT
DTSTART:20250309T070000
END:DAYLIGHT
BEGIN:STANDARD
TZOFFSETFROM:-0400
TZOFFSETTO:-0500
TZNAME:EST
DTSTART:20251102T060000
END:STANDARD
BEGIN:DAYLIGHT
TZOFFSETFROM:-0500
TZOFFSETTO:-0400
TZNAME:EDT
DTSTART:20260308T070000
END:DAYLIGHT
BEGIN:STANDARD
TZOFFSETFROM:-0400
TZOFFSETTO:-0500
TZNAME:EST
DTSTART:20261101T060000
END:STANDARD
END:VTIMEZONE
BEGIN:VEVENT
DTSTART;TZID=America/New_York:20251202T183000
DTEND;TZID=America/New_York:20251202T200000
DTSTAMP:20260424T171728
CREATED:20250430T004106Z
LAST-MODIFIED:20250722T184913Z
UID:10000560-1764700200-1764705600@br.org
SUMMARY:Black Rose Munch
DESCRIPTION:Join us before Tuesday Education for our BYOD (Bring Your Own Dinner) Munch! Bring a brown bag from home or your favorite takeout to the Crucible and get to know people before class. Come enjoy food\, fun discussions\, and meet like-minded folks.
URL:https://br.org/event/black-rose-munch-fy26/2025-12-02/
LOCATION:The Crucible\, 412 V St NE\, Washington\, DC\, United States
CATEGORIES:Education
END:VEVENT
BEGIN:VEVENT
DTSTART;TZID=America/New_York:20251202T200000
DTEND;TZID=America/New_York:20251202T213000
DTSTAMP:20260424T171728
CREATED:20250924T000132Z
LAST-MODIFIED:20251125T023257Z
UID:10000632-1764705600-1764711000@br.org
SUMMARY:Community Outreach: Your Privacy Online with Alex McGeorge
DESCRIPTION:Accessibility accommodations are available upon request to accessibility@br.org. Please give us two weeks’ notice. \n\nClass Description\nThe changing US political landscape along with our ever increasing integration with various types of computing has many concerned about their privacy and anonymity. This class details common sense steps you can take to increase your privacy\, security\, and anonymity while doing such previously mundane things as: looking at porn\, crossing borders\, booking medical appointments\, attending political actions\, simply existing in America! I will only cover topics related to personal security\, anything that would generally be covered by a business or organization paying a consultant is off limits. \nPresenter Bio\nAlex McGeorge has been involved with BDSM in the DMV for a truly boring amount of time. He currently is best known as co-organizer and event runner for The Crucible’s Dungeon 101. Alex has taught on spanking since 2012 through Dungeon 101 and at events for Black Rose\, FetFest\, CLAW Getaway 2022 and internationally. When not enjoying the suffering of others Alex works on the offensive side of computer security for a cloud provider\, enjoys running around in nature and sometimes indulging in his compulsion to get into places he’s not supposed to be. \nThis is a community outreach event and attendance is free of charge to current members and folks newer to Black Rose.\n\nTo minimize disruption\, there will be no admittance after 8:30. \nThis is not a play party. Do not attempt to engage in scenes or solicit others for play\, except for labbing as part of a workshop-style class. \nTickets are $5 for Black Rose Members and Members of Reciprocal Groups with their Membership Card and $10 for non-members. \nAll ticket sales are at the door. \nEmail info@br.org for more information about Black Rose or its events. \nIf you have questions or would like to request a class topic\, please email education@br.org
URL:https://br.org/event/community-outreach-your-privacy-online-with-alex-mcgeorge/
LOCATION:The Crucible\, 412 V St NE\, Washington\, DC\, United States
CATEGORIES:Education,Tuesday Night
ATTACH;FMTTYPE=image/png:https://br.org/wp-content/uploads/2023/11/BR-Education-Header-Photo.png
ORGANIZER;CN="Education Team":MAILTO:education@br.org
END:VEVENT
END:VCALENDAR