BEGIN:VCALENDAR
VERSION:2.0
PRODID:-//Black Rose - ECPv6.15.20//NONSGML v1.0//EN
CALSCALE:GREGORIAN
METHOD:PUBLISH
X-ORIGINAL-URL:https://br.org
X-WR-CALDESC:Events for Black Rose
REFRESH-INTERVAL;VALUE=DURATION:PT1H
X-Robots-Tag:noindex
X-PUBLISHED-TTL:PT1H
BEGIN:VTIMEZONE
TZID:America/New_York
BEGIN:DAYLIGHT
TZOFFSETFROM:-0500
TZOFFSETTO:-0400
TZNAME:EDT
DTSTART:20250309T070000
END:DAYLIGHT
BEGIN:STANDARD
TZOFFSETFROM:-0400
TZOFFSETTO:-0500
TZNAME:EST
DTSTART:20251102T060000
END:STANDARD
BEGIN:DAYLIGHT
TZOFFSETFROM:-0500
TZOFFSETTO:-0400
TZNAME:EDT
DTSTART:20260308T070000
END:DAYLIGHT
BEGIN:STANDARD
TZOFFSETFROM:-0400
TZOFFSETTO:-0500
TZNAME:EST
DTSTART:20261101T060000
END:STANDARD
BEGIN:DAYLIGHT
TZOFFSETFROM:-0500
TZOFFSETTO:-0400
TZNAME:EDT
DTSTART:20270314T070000
END:DAYLIGHT
BEGIN:STANDARD
TZOFFSETFROM:-0400
TZOFFSETTO:-0500
TZNAME:EST
DTSTART:20271107T060000
END:STANDARD
END:VTIMEZONE
BEGIN:VEVENT
DTSTART;TZID=America/New_York:20260602T183000
DTEND;TZID=America/New_York:20260602T200000
DTSTAMP:20260422T150252
CREATED:20250430T004106Z
LAST-MODIFIED:20250722T184913Z
UID:10000586-1780425000-1780430400@br.org
SUMMARY:Black Rose Munch
DESCRIPTION:Join us before Tuesday Education for our BYOD (Bring Your Own Dinner) Munch! Bring a brown bag from home or your favorite takeout to the Crucible and get to know people before class. Come enjoy food\, fun discussions\, and meet like-minded folks.
URL:https://br.org/event/black-rose-munch-fy26/2026-06-02/
LOCATION:The Crucible\, 412 V St NE\, Washington\, DC\, United States
CATEGORIES:Education
END:VEVENT
BEGIN:VEVENT
DTSTART;TZID=America/New_York:20260602T200000
DTEND;TZID=America/New_York:20260602T213000
DTSTAMP:20260422T150252
CREATED:20260412T161251Z
LAST-MODIFIED:20260412T161251Z
UID:10000748-1780430400-1780435800@br.org
SUMMARY:Community Outreach: Kink and the LGBTQ+ Community: History and Active Allyship with Nijntje
DESCRIPTION:Accessibility accommodations are available upon request to accessibility@br.org. Please give us two weeks’ notice. \n\nClass Description\nLearn about the rich history of the LGBTQ+ community and its overlap with the kink community\, discuss the importance of queer inclusion\, and learn practical ways to amp up your LGBTQ+ allyship both in the community as a whole and with play partners. This class will benefit LGBTQ+ people and cisgender/heterosexual people alike. In this welcoming and open environment\, we will foster a discussion that allows for you to ask questions you may not be able to ask your queer friends. Come learn and grow with us! \nStructure: \n\nBrief LGBTQ+ 102 (beyond the acronym: what is gender and sexual diversity? why are queer people more likely to engage with kink and polyamory)\nAn abridged history of the LGBTQ+ community and kink\nWho cares? Why should we be active allies? Why is queer inclusion vital to preserving kink spaces?\nHow do you work toward being a better ally in both the general community and with people you would like to/do play with?\nBonus: queer theory in kink (queering your play- gender experimentation through kink\, dehumanization and power exchange as coping skills and self expression)\nSafe Space Q&A: I am comfortable answering ANY question. I answer inappropriate\, uncomfortable\, and “offensive” questions every day at work\, and this is a safe space to ask things you may not want to ask a friend or community member who is queer. All questions are welcome and encouraged. This is the space to ask difficult questions as long as they are asked in good faith (without the goal of an argument).\n\nExpected outcomes: \n\nParticipants will foster a better understanding of the LGBTQ+ community.\nParticipants will be able to participate in the preservation of kink history through verbal storytelling.\nParticipants will learn about the importance of and practical ways to improve and practice queer allyship.\nBonus: participants can learn about examples of how to incorporate queer theory into kink play.\nParticipants will be able to foster an open discussion with questions about the LGBTQ+ community and kink.\n\nSupplies needed: \n\nNote taking supplies if desired\n\nTotal time: 1 hour to 90 minutes \nSkill level required:\nA desire to be an ally to the LGBTQ+ community\, a goal of fostering a positive and healthy learning environment\, and care for fellow community members. \nPresenter Bio\nNijntje (“nine-cha”) they/them\, is a local queer advocate and active member of the DMV kink community. At their day job\, Nijntje runs an LGBTQ+ community center where they advocate for queer people\, facilitate support groups\, and provide community education through LGBTQ+ 101 classes. Nijntje’s educational background is in social work with a minor in the study of women and gender with a special focus on queer theory. After hours\, they can be found at the local kink clubs\, usually tying or being tied in dynamic rope scenes\, being kicked around by their Daddy\, and generally slutting it up. Nijntje has been serving on the QINK DC organizer board since January 2025\, and is passionate about queer and kinky liberation. \n\nThis is a community outreach event and attendance is free of charge to current members and folks newer to Black Rose.\nTo minimize disruption\, there will be no admittance after 8:30. \nThis is not a play party. Do not attempt to engage in scenes or solicit others for play\, except for labbing as part of a workshop-style class. \nAll ticket sales are at the door. \nEmail info@br.org for more information about Black Rose or its events. \nIf you have questions or would like to request a class topic\, please email education@br.org
URL:https://br.org/event/community-outreach-kink-and-the-lgbtq-community-history-and-active-allyship-with-nijntje/
LOCATION:The Crucible\, 412 V St NE\, Washington\, DC\, United States
CATEGORIES:Education,Tuesday Night
ATTACH;FMTTYPE=image/png:https://br.org/wp-content/uploads/2023/11/BR-Education-Header-Photo.png
ORGANIZER;CN="Education Team":MAILTO:education@br.org
END:VEVENT
END:VCALENDAR