BEGIN:VCALENDAR
VERSION:2.0
PRODID:-//Black Rose - ECPv6.15.20//NONSGML v1.0//EN
CALSCALE:GREGORIAN
METHOD:PUBLISH
X-ORIGINAL-URL:https://br.org
X-WR-CALDESC:Events for Black Rose
REFRESH-INTERVAL;VALUE=DURATION:PT1H
X-Robots-Tag:noindex
X-PUBLISHED-TTL:PT1H
BEGIN:VTIMEZONE
TZID:America/New_York
BEGIN:DAYLIGHT
TZOFFSETFROM:-0500
TZOFFSETTO:-0400
TZNAME:EDT
DTSTART:20250309T070000
END:DAYLIGHT
BEGIN:STANDARD
TZOFFSETFROM:-0400
TZOFFSETTO:-0500
TZNAME:EST
DTSTART:20251102T060000
END:STANDARD
BEGIN:DAYLIGHT
TZOFFSETFROM:-0500
TZOFFSETTO:-0400
TZNAME:EDT
DTSTART:20260308T070000
END:DAYLIGHT
BEGIN:STANDARD
TZOFFSETFROM:-0400
TZOFFSETTO:-0500
TZNAME:EST
DTSTART:20261101T060000
END:STANDARD
BEGIN:DAYLIGHT
TZOFFSETFROM:-0500
TZOFFSETTO:-0400
TZNAME:EDT
DTSTART:20270314T070000
END:DAYLIGHT
BEGIN:STANDARD
TZOFFSETFROM:-0400
TZOFFSETTO:-0500
TZNAME:EST
DTSTART:20271107T060000
END:STANDARD
END:VTIMEZONE
BEGIN:VEVENT
DTSTART;TZID=America/New_York:20260207T130000
DTEND;TZID=America/New_York:20260207T180000
DTSTAMP:20260419T180948
CREATED:20260116T141140Z
LAST-MODIFIED:20260207T172425Z
UID:10000712-1770469200-1770487200@br.org
SUMMARY:Black Rose Education Intensive Series: Intentional Intensity with Leather Rob
DESCRIPTION:Accessibility accommodations are available upon request to accessibility@br.org. Please give us two weeks’ notice. \n\nIntroducing the Black Rose Education Intensives Series\nBlack Rose Education Intensive Series is a new quarterly program built for deeper dives into kink. These extended sessions pair in-depth instruction with hands-on practice and lab time\, creating space for intentional learning and skill development beyond a single evening class. \nSchedule\n1:00 pm: Doors open\n1:30 pm – 3:00 pm: Whipflix and Chill\n3:00 – 3:30 pm: Break\n3:30 pm – 5:00 pm: Bondage and Beatdown\n5:00 – 6:00 pm: Labbing \nIntensive Class Descriptions\nWhipflix and Chill\nA workshop on diversifying your whip-throwing style. This will be a hands-on class getting into different types of throwing styles to add dynamics and creativity to your scene\, as well as techniques for safety routines that work well for leather or nylon singletails. \nBondage and Beatdown\nYour partner is restrained\, ropes and leather tight against their skin. Helpless and trapped. So what do you do now? BEAT SOME ASS!! Let’s get together and talk about using bondage and impact together as complementary tools in your scene. We’ll be going over different forms of bondage and how they interact with different styles of impact\, while also discussing safety and risks. \nPresenter Bio\nLeather Rob is a whip maker and whip enthusiast who has been in the DMV kink community since moving there in 2018. Coming from rural North Carolina to an amazing hotspot for debauchery\, he found himself being drawn more and more to teaching and education. He enjoys working hands-on with others to improve their skills. \n\nThis is not a play party. Do not attempt to engage in scenes or solicit others for play\, except for labbing as part of a workshop-style class. \nTickets are $15 for Crucible Members and $20 for non-members. \nAll ticket sales are at the door. \nInterested in teaching for Black Rose?\nPlease submit your presenter and class information here.\n*Please note that all potential presenters are subject to vetting.* \nHave Feedback for Our Classes?\nPlease submit your anonymous feedback here! \n\nEmail info@br.org for more information about Black Rose or its events. \nIf you have questions or would like to request a class topic\, please email education@br.org \n 
URL:https://br.org/event/black-rose-education-intensive-series-intentional-intensity-with-leather-rob/
LOCATION:The Crucible\, 412 V St NE\, Washington\, DC\, United States
CATEGORIES:Education,Intensive
ORGANIZER;CN="Education Team":MAILTO:education@br.org
END:VEVENT
END:VCALENDAR