BEGIN:VCALENDAR
VERSION:2.0
PRODID:-//Black Rose - ECPv6.15.20//NONSGML v1.0//EN
CALSCALE:GREGORIAN
METHOD:PUBLISH
X-ORIGINAL-URL:https://br.org
X-WR-CALDESC:Events for Black Rose
REFRESH-INTERVAL;VALUE=DURATION:PT1H
X-Robots-Tag:noindex
X-PUBLISHED-TTL:PT1H
BEGIN:VTIMEZONE
TZID:America/New_York
BEGIN:DAYLIGHT
TZOFFSETFROM:-0500
TZOFFSETTO:-0400
TZNAME:EDT
DTSTART:20250309T070000
END:DAYLIGHT
BEGIN:STANDARD
TZOFFSETFROM:-0400
TZOFFSETTO:-0500
TZNAME:EST
DTSTART:20251102T060000
END:STANDARD
BEGIN:DAYLIGHT
TZOFFSETFROM:-0500
TZOFFSETTO:-0400
TZNAME:EDT
DTSTART:20260308T070000
END:DAYLIGHT
BEGIN:STANDARD
TZOFFSETFROM:-0400
TZOFFSETTO:-0500
TZNAME:EST
DTSTART:20261101T060000
END:STANDARD
BEGIN:DAYLIGHT
TZOFFSETFROM:-0500
TZOFFSETTO:-0400
TZNAME:EDT
DTSTART:20270314T070000
END:DAYLIGHT
BEGIN:STANDARD
TZOFFSETFROM:-0400
TZOFFSETTO:-0500
TZNAME:EST
DTSTART:20271107T060000
END:STANDARD
END:VTIMEZONE
BEGIN:VEVENT
DTSTART;TZID=America/New_York:20260120T183000
DTEND;TZID=America/New_York:20260120T200000
DTSTAMP:20260423T173039
CREATED:20260120T162853Z
LAST-MODIFIED:20260120T162922Z
UID:10000567-1768933800-1768939200@br.org
SUMMARY:Black Rose Munch
DESCRIPTION:Join us before Tuesday Education for our BYOD (Bring Your Own Dinner) Munch! Bring a brown bag from home or your favorite takeout to the Crucible and get to know people before class. Come enjoy food\, fun discussions\, and meet like-minded folks.
URL:https://br.org/event/black-rose-munch-4/
LOCATION:The Crucible\, 412 V St NE\, Washington\, DC\, United States
CATEGORIES:!Exception
END:VEVENT
BEGIN:VEVENT
DTSTART;TZID=America/New_York:20260120T200000
DTEND;TZID=America/New_York:20260120T213000
DTSTAMP:20260423T173039
CREATED:20251206T023404Z
LAST-MODIFIED:20260120T030309Z
UID:10000675-1768939200-1768944600@br.org
SUMMARY:Impact 101 with Nytemare
DESCRIPTION:Accessibility accommodations are available upon request to accessibility@br.org. Please give us two weeks’ notice. \n\nClass Description\nThe Introduction to Impact Play 101 is a beginner-level BDSM class designed to provide a safe and accessible introduction to the world of impact play. This unique workshop utilizes pool noodles as demonstration tools\, allowing participants to explore various techniques while emphasizing the importance of consent\, communication\, and safety. \nLed by experienced practitioners in a non-judgmental and inclusive environment\, this class focuses on the fundamentals of impact play\, which involves striking or spanking the body with various implements. By using pool noodles\, participants can learn and practice the techniques without causing harm or discomfort to one another. \nDuring the workshop\, participants will be introduced to a range of techniques\, including light tapping\, rhythmic spanking\, and more intense impacts. The instructors will demonstrate proper body positioning\, wrist action\, and targeting to ensure the desired sensation and minimize the risk of injury. They will also emphasize the importance of reading verbal and non-verbal cues from their partners\, promoting active consent and open communication. \nIn addition to teaching impact techniques\, the class will cover essential do’s and don’ts regarding where to hit. This includes discussions on sensitive areas to avoid\, such as joints\, kidneys\, spine\, and face\, and focusing on the safe zones like the buttocks and upper thighs. Understanding the body’s anatomy and limits is crucial in impact play to ensure a consensual and pleasurable experience for both partners. \nSafety and consent are paramount throughout the workshop. Participants will learn about negotiation\, setting boundaries\, and implementing safe words or signals to establish clear communication and maintain a safe and enjoyable play environment. The instructors will also address aftercare\, emphasizing the importance of providing comfort and support to participants after an impact scene. \nWhether you are new to BDSM or looking to expand your knowledge and skills in impact play\, Impact Play 101 offers a welcoming and educational experience. Join us to learn the art of impact play\, foster trust and communication\, and explore the exhilarating world of BDSM in a safe and consensual manner. \nPresenter Bio\nI have been active in the kink community since 1998\, beginning as a submissive and now as a dominant. I am the happy owner of my boy Len for the past 8 years and enjoy sharing my knowledge with others. \n\nTo minimize disruption\, there will be no admittance after 8:30. \nThis is not a play party. Do not attempt to engage in scenes or solicit others for play\, except for labbing as part of a workshop-style class. \nTickets are $5 for Black Rose Members and Members of Reciprocal Groups with their Membership Card and $10 for non-members. \nAll ticket sales are at the door. \nEmail info@br.org for more information about Black Rose or its events. \nIf you have questions or would like to request a class topic\, please email education@br.org
URL:https://br.org/event/impact-101-with-nytemare/
LOCATION:The Crucible\, 412 V St NE\, Washington\, DC\, United States
CATEGORIES:!Exception
ATTACH;FMTTYPE=image/png:https://br.org/wp-content/uploads/2023/11/BR-Education-Header-Photo.png
ORGANIZER;CN="Education Team":MAILTO:education@br.org
END:VEVENT
BEGIN:VEVENT
DTSTART;TZID=America/New_York:20260127T183000
DTEND;TZID=America/New_York:20260127T200000
DTSTAMP:20260423T173039
CREATED:20260127T193143Z
LAST-MODIFIED:20260127T193242Z
UID:10000568-1769538600-1769544000@br.org
SUMMARY:CANCELED: Black Rose Munch
DESCRIPTION:Join us before Tuesday Education for our BYOD (Bring Your Own Dinner) Munch! Bring a brown bag from home or your favorite takeout to the Crucible and get to know people before class. Come enjoy food\, fun discussions\, and meet like-minded folks.
URL:https://br.org/event/black-rose-munch-fy26-2/
LOCATION:The Crucible\, 412 V St NE\, Washington\, DC\, United States
CATEGORIES:!Exception,Education
END:VEVENT
BEGIN:VEVENT
DTSTART;TZID=America/New_York:20260127T200000
DTEND;TZID=America/New_York:20260127T213000
DTSTAMP:20260423T173039
CREATED:20251206T023522Z
LAST-MODIFIED:20260127T193057Z
UID:10000676-1769544000-1769549400@br.org
SUMMARY:CANCELED: The Architecture of Aftercare with ChaoticElle
DESCRIPTION:Accessibility accommodations are available upon request to accessibility@br.org. Please give us two weeks’ notice. \n\nDue to inclement weather\, this class has been rescheduled for May 19. \nClass Description\nAftercare is a deliberate and collaborative process that begins before the scene and extends long after it ends. In this class\, we will explore physical\, emotional\, and psychological dimensions of care across roles\, bodies\, and dynamics. Whether you’re topping\, bottoming\, switching\, or playing solo\, you’ll leave with concrete strategies for planning and negotiating meaningful aftercare. We’ll also address time-delayed needs\, communication challenges\, and making care plans specific to you and your scene.  \nPresenter Bio\nChaotic Elle (she/they) is the founder of The SexEd We Missed\, where they offer inclusive pleasure-focused sex education through 1:1 coaching\, workshops\, and community learning spaces. Elle holds a Master’s degree in Sexual Health and brings years of experience teaching both vanilla and kink-focused content. They’ve led sessions at kink camps\, consulted with sexual health nonprofits across the globe\, and trained medical professionals on how to have better conversations about sex. Their teaching blends evidence-based info empowerment\, care\, and a commitment to unlearning shame—whether they’re talking about pain\, power\, pleasure\, or the messy in-between. \n\nTo minimize disruption\, there will be no admittance after 8:30. \nThis is not a play party. Do not attempt to engage in scenes or solicit others for play\, except for labbing as part of a workshop-style class. \nTickets are $5 for Black Rose Members and Members of Reciprocal Groups with their Membership Card and $10 for non-members. \nAll ticket sales are at the door. \nEmail info@br.org for more information about Black Rose or its events. \nIf you have questions or would like to request a class topic\, please email education@br.org
URL:https://br.org/event/the-architecture-of-aftercare-with-chaoticelle/
LOCATION:The Crucible\, 412 V St NE\, Washington\, DC\, United States
CATEGORIES:!Exception,Education,Tuesday Night
ATTACH;FMTTYPE=image/png:https://br.org/wp-content/uploads/2023/11/BR-Education-Header-Photo.png
ORGANIZER;CN="Education Team":MAILTO:education@br.org
END:VEVENT
END:VCALENDAR