BEGIN:VCALENDAR
VERSION:2.0
PRODID:-//Black Rose - ECPv6.15.20//NONSGML v1.0//EN
CALSCALE:GREGORIAN
METHOD:PUBLISH
X-ORIGINAL-URL:https://br.org
X-WR-CALDESC:Events for Black Rose
REFRESH-INTERVAL;VALUE=DURATION:PT1H
X-Robots-Tag:noindex
X-PUBLISHED-TTL:PT1H
BEGIN:VTIMEZONE
TZID:America/New_York
BEGIN:DAYLIGHT
TZOFFSETFROM:-0500
TZOFFSETTO:-0400
TZNAME:EDT
DTSTART:20220313T070000
END:DAYLIGHT
BEGIN:STANDARD
TZOFFSETFROM:-0400
TZOFFSETTO:-0500
TZNAME:EST
DTSTART:20221106T060000
END:STANDARD
BEGIN:DAYLIGHT
TZOFFSETFROM:-0500
TZOFFSETTO:-0400
TZNAME:EDT
DTSTART:20230312T070000
END:DAYLIGHT
BEGIN:STANDARD
TZOFFSETFROM:-0400
TZOFFSETTO:-0500
TZNAME:EST
DTSTART:20231105T060000
END:STANDARD
BEGIN:DAYLIGHT
TZOFFSETFROM:-0500
TZOFFSETTO:-0400
TZNAME:EDT
DTSTART:20240310T070000
END:DAYLIGHT
BEGIN:STANDARD
TZOFFSETFROM:-0400
TZOFFSETTO:-0500
TZNAME:EST
DTSTART:20241103T060000
END:STANDARD
END:VTIMEZONE
BEGIN:VEVENT
DTSTART;TZID=America/New_York:20231111T120000
DTEND;TZID=America/New_York:20231111T170000
DTSTAMP:20260422T031827
CREATED:20231109T012715Z
LAST-MODIFIED:20231109T014229Z
UID:10000070-1699704000-1699722000@br.org
SUMMARY:Tickle SIG play party
DESCRIPTION:Come laugh with us! \nWe ask all participants to review the rules and “What to Expect at a TickleSIG” party in the Tickle DC – Washington Metro Area Ticking group. \nTickle SIG party begins at noon and goes til 5pm on the 2nd Saturday of each month. Bring a pot luck dish – maybe even something inspired by Thanksgiving – and your toy bag. \nNo alcohol\, smoking or drugs are permitted\, and you must be fully vaccinated for COVID. \nWhether you are new to tickling or experienced\, you are welcome to join in on the fun.
URL:https://br.org/event/tickle-sig-play-party-nov-2023/
LOCATION:Tickle SIG Herndon location\, Herndon\, VA\, United States
CATEGORIES:Special Interest Groups,Tickle
END:VEVENT
BEGIN:VEVENT
DTSTART;TZID=America/New_York:20231113T183000
DTEND;TZID=America/New_York:20231113T210000
DTSTAMP:20260422T031827
CREATED:20230910T193551Z
LAST-MODIFIED:20231109T013813Z
UID:10000044-1699900200-1699909200@br.org
SUMMARY:*RESCHEDULED* D/s Discussion Group: When Things Come Up
DESCRIPTION:Come one and all to a group for the discussion of any and all topics D and s. This group is intended to be a resource for people of all levels of experience and\, as such\, everyone is encouraged to attend. Please bring all questions you may have about D/s\, M/s\, rituals\, victuals\, brats\, splats\, and mats. \nThe topic of tonight’s discussion is Modifying D/s When Things Come Up. Things happen in life\, and sometimes relationships have to evolve. How do we manage this and keep everyone as comfortable and safe as possible? Although there is a topic for the discussion\, given the intent of this group to be a place for sharing\, we will not be strict about keeping to the topic. \nYou are free to arrive anytime after 6:30. Before the discussion starts\, there will be a chance to mingle and eat dinner. Please bring your own food or snacks if you want. Discussion will begin at 7:00. \nFor this event\, we will be hosting in our home in Arlington\, specifically North Highland\, roughly 10 minutes from Courthouse Metro. Parking is abundant but fills quickly in the evening. We will give the address to those who email ds@br.org. You must be vaccinated against COVID-19\, but we will not make you show your vaccine card.
URL:https://br.org/event/d-s-discussion-group-when-things-come-up-2/
LOCATION:D/s SIG Arlington location\, ARLINGTON\, VA\, United States
CATEGORIES:D/s,Special Interest Groups
END:VEVENT
END:VCALENDAR