BEGIN:VCALENDAR
VERSION:2.0
PRODID:-//Black Rose - ECPv6.15.20//NONSGML v1.0//EN
CALSCALE:GREGORIAN
METHOD:PUBLISH
X-WR-CALNAME:Black Rose
X-ORIGINAL-URL:https://br.org
X-WR-CALDESC:Events for Black Rose
REFRESH-INTERVAL;VALUE=DURATION:PT1H
X-Robots-Tag:noindex
X-PUBLISHED-TTL:PT1H
BEGIN:VTIMEZONE
TZID:America/New_York
BEGIN:DAYLIGHT
TZOFFSETFROM:-0500
TZOFFSETTO:-0400
TZNAME:EDT
DTSTART:20230312T070000
END:DAYLIGHT
BEGIN:STANDARD
TZOFFSETFROM:-0400
TZOFFSETTO:-0500
TZNAME:EST
DTSTART:20231105T060000
END:STANDARD
BEGIN:DAYLIGHT
TZOFFSETFROM:-0500
TZOFFSETTO:-0400
TZNAME:EDT
DTSTART:20240310T070000
END:DAYLIGHT
BEGIN:STANDARD
TZOFFSETFROM:-0400
TZOFFSETTO:-0500
TZNAME:EST
DTSTART:20241103T060000
END:STANDARD
BEGIN:DAYLIGHT
TZOFFSETFROM:-0500
TZOFFSETTO:-0400
TZNAME:EDT
DTSTART:20250309T070000
END:DAYLIGHT
BEGIN:STANDARD
TZOFFSETFROM:-0400
TZOFFSETTO:-0500
TZNAME:EST
DTSTART:20251102T060000
END:STANDARD
END:VTIMEZONE
BEGIN:VEVENT
DTSTART;TZID=America/New_York:20240506T183000
DTEND;TZID=America/New_York:20240506T210000
DTSTAMP:20260423T125323
CREATED:20231109T014103Z
LAST-MODIFIED:20240425T233052Z
UID:10000087-1715020200-1715029200@br.org
SUMMARY:D/s Discussion Group: Expectations in Power Exchange
DESCRIPTION:RSVP on Fet now! \nCome one and all to a group for the discussion of any and all topics D and s. This group is intended to be a resource for people of all levels of experience and\, as such\, everyone is encouraged to attend. Please bring all questions you may have about D/s\, M/s\, rituals\, victuals\, brats\, splats\, and mats. \nThe topic of tonight’s discussion is Expectations and Measures of Success in D/s. Power exchange in particular is one of those things people think they can be “bad at”. But how do you get good? What does “good” even mean? Although there is a topic for the discussion\, this group is meant to be a place for sharing and we will not be strict about keeping to the topic. \nYou are free to arrive anytime after 6:30. Before the discussion starts\, there will be a chance to mingle and eat dinner. Please bring your own food or snacks if you want. Discussion will begin at 7:00. \nFor this event\, we will be hosting in our home in Arlington\, specifically West Arlington\, roughly 3 blocks from East Falls Church Metro. Parking is abundant but fills quickly in the evening. We will give the address to those who RSVP “yes” (or contact ds@br.org).
URL:https://br.org/event/d-s-discussion-group-expectations-in-power-exchange/
LOCATION:D/s SIG Arlington location\, ARLINGTON\, VA\, United States
CATEGORIES:D/s,Special Interest Groups
END:VEVENT
END:VCALENDAR