BEGIN:VCALENDAR
VERSION:2.0
PRODID:-//Black Rose - ECPv6.15.20//NONSGML v1.0//EN
CALSCALE:GREGORIAN
METHOD:PUBLISH
X-WR-CALNAME:Black Rose
X-ORIGINAL-URL:https://br.org
X-WR-CALDESC:Events for Black Rose
REFRESH-INTERVAL;VALUE=DURATION:PT1H
X-Robots-Tag:noindex
X-PUBLISHED-TTL:PT1H
BEGIN:VTIMEZONE
TZID:America/New_York
BEGIN:DAYLIGHT
TZOFFSETFROM:-0500
TZOFFSETTO:-0400
TZNAME:EDT
DTSTART:20240310T070000
END:DAYLIGHT
BEGIN:STANDARD
TZOFFSETFROM:-0400
TZOFFSETTO:-0500
TZNAME:EST
DTSTART:20241103T060000
END:STANDARD
BEGIN:DAYLIGHT
TZOFFSETFROM:-0500
TZOFFSETTO:-0400
TZNAME:EDT
DTSTART:20250309T070000
END:DAYLIGHT
BEGIN:STANDARD
TZOFFSETFROM:-0400
TZOFFSETTO:-0500
TZNAME:EST
DTSTART:20251102T060000
END:STANDARD
BEGIN:DAYLIGHT
TZOFFSETFROM:-0500
TZOFFSETTO:-0400
TZNAME:EDT
DTSTART:20260308T070000
END:DAYLIGHT
BEGIN:STANDARD
TZOFFSETFROM:-0400
TZOFFSETTO:-0500
TZNAME:EST
DTSTART:20261101T060000
END:STANDARD
END:VTIMEZONE
BEGIN:VEVENT
DTSTART;TZID=America/New_York:20250707T183000
DTEND;TZID=America/New_York:20250707T210000
DTSTAMP:20260423T080409
CREATED:20250611T014654Z
LAST-MODIFIED:20250621T013303Z
UID:10000528-1751913000-1751922000@br.org
SUMMARY:D/s Discussion Group: Independence in Power Exchange
DESCRIPTION:Come one and all to a group for the discussion of any and all topics D and s. This group is intended to be a resource for people of all levels of experience and\, as such\, everyone is encouraged to attend. Please bring all questions you may have about D/s\, M/s\, rituals\, victuals\, brats\, splats\, and mats. \nThe topic of tonight’s discussion is Independence in Power Exchange Relationships. Power exchange involves\, well\, a surrender (and acceptance) of power\, and a huge question is\, how do we keep ourselves from being absorbed into our partner and into our relationship? Although there is a topic for the discussion\, given the intent of this group to be a place for sharing\, we will not be strict about keeping to the topic. \nFor this event\, we will be hosting at the Thomas Jefferson Library in West Falls Church. We will be in Meeting Rooms 1 and 2. Light refreshments are permitted in the meeting rooms.
URL:https://br.org/event/d-s-discussion-group-independence-in-power-exchange/
LOCATION:TJ Library\, 7415 Arlington Blvd\, Falls Church\, 22042\, United States
CATEGORIES:D/s,Special Interest Groups
END:VEVENT
END:VCALENDAR