BEGIN:VCALENDAR
VERSION:2.0
PRODID:-//Black Rose - ECPv6.15.20//NONSGML v1.0//EN
CALSCALE:GREGORIAN
METHOD:PUBLISH
X-WR-CALNAME:Black Rose
X-ORIGINAL-URL:https://br.org
X-WR-CALDESC:Events for Black Rose
REFRESH-INTERVAL;VALUE=DURATION:PT1H
X-Robots-Tag:noindex
X-PUBLISHED-TTL:PT1H
BEGIN:VTIMEZONE
TZID:America/New_York
BEGIN:DAYLIGHT
TZOFFSETFROM:-0500
TZOFFSETTO:-0400
TZNAME:EDT
DTSTART:20240310T070000
END:DAYLIGHT
BEGIN:STANDARD
TZOFFSETFROM:-0400
TZOFFSETTO:-0500
TZNAME:EST
DTSTART:20241103T060000
END:STANDARD
BEGIN:DAYLIGHT
TZOFFSETFROM:-0500
TZOFFSETTO:-0400
TZNAME:EDT
DTSTART:20250309T070000
END:DAYLIGHT
BEGIN:STANDARD
TZOFFSETFROM:-0400
TZOFFSETTO:-0500
TZNAME:EST
DTSTART:20251102T060000
END:STANDARD
BEGIN:DAYLIGHT
TZOFFSETFROM:-0500
TZOFFSETTO:-0400
TZNAME:EDT
DTSTART:20260308T070000
END:DAYLIGHT
BEGIN:STANDARD
TZOFFSETFROM:-0400
TZOFFSETTO:-0500
TZNAME:EST
DTSTART:20261101T060000
END:STANDARD
END:VTIMEZONE
BEGIN:VEVENT
DTSTART;TZID=America/New_York:20251006T183000
DTEND;TZID=America/New_York:20251006T210000
DTSTAMP:20260421T032940
CREATED:20250913T213658Z
LAST-MODIFIED:20250913T213658Z
UID:10000627-1759775400-1759784400@br.org
SUMMARY:D/s Discussion Group: Vetting Sources in Power Exchange
DESCRIPTION:RSVP on Fet now! \nCome one and all to a group for the discussion of any and all topics D and s. This group is intended to be a resource for people of all levels of experience and\, as such\, everyone is encouraged to attend. Please bring all questions you may have about D/s\, M/s\, rituals\, victuals\, brats\, splats\, and mats. \nThe topic of tonight’s discussion is Vetting your Information Sources. There is so much information\, online and off\, about power exchange. How do you know what’s right\, or what’s right for you? Although there is a topic for the discussion\, this group is meant to be a place for sharing and we will not be strict about keeping to the topic. \nFor this event\, we will be hosting at the Thomas Jefferson Library in West Falls Church. We will be in Meeting Rooms 1 and 2. Light refreshments are permitted in the meeting rooms. \nPlease RSVP as Going if you want to go!
URL:https://br.org/event/d-s-discussion-group-vetting-sources-in-power-exchange/
LOCATION:TJ Library\, 7415 Arlington Blvd\, Falls Church\, 22042\, United States
CATEGORIES:D/s,Special Interest Groups
END:VEVENT
END:VCALENDAR