BEGIN:VCALENDAR
VERSION:2.0
PRODID:-//Black Rose - ECPv6.15.20//NONSGML v1.0//EN
CALSCALE:GREGORIAN
METHOD:PUBLISH
X-ORIGINAL-URL:https://br.org
X-WR-CALDESC:Events for Black Rose
REFRESH-INTERVAL;VALUE=DURATION:PT1H
X-Robots-Tag:noindex
X-PUBLISHED-TTL:PT1H
BEGIN:VTIMEZONE
TZID:America/New_York
BEGIN:DAYLIGHT
TZOFFSETFROM:-0500
TZOFFSETTO:-0400
TZNAME:EDT
DTSTART:20240310T070000
END:DAYLIGHT
BEGIN:STANDARD
TZOFFSETFROM:-0400
TZOFFSETTO:-0500
TZNAME:EST
DTSTART:20241103T060000
END:STANDARD
BEGIN:DAYLIGHT
TZOFFSETFROM:-0500
TZOFFSETTO:-0400
TZNAME:EDT
DTSTART:20250309T070000
END:DAYLIGHT
BEGIN:STANDARD
TZOFFSETFROM:-0400
TZOFFSETTO:-0500
TZNAME:EST
DTSTART:20251102T060000
END:STANDARD
BEGIN:DAYLIGHT
TZOFFSETFROM:-0500
TZOFFSETTO:-0400
TZNAME:EDT
DTSTART:20260308T070000
END:DAYLIGHT
BEGIN:STANDARD
TZOFFSETFROM:-0400
TZOFFSETTO:-0500
TZNAME:EST
DTSTART:20261101T060000
END:STANDARD
END:VTIMEZONE
BEGIN:VEVENT
DTSTART;TZID=America/New_York:20251226T210000
DTEND;TZID=America/New_York:20251226T233000
DTSTAMP:20260420T210935
CREATED:20251207T174138Z
LAST-MODIFIED:20251212T214252Z
UID:10000683-1766782800-1766791800@br.org
SUMMARY:Black Rose Presents: End of the Year Holiday Bash
DESCRIPTION:Join us this month for Black Rose Presents: End of the Year Holiday Bash. RSVP here! \nIts been a long wild year\, and with so many holidays its easy to miss some.\nSo lets celebrate them all!! From New Years\, to service animal appreciation day\, come dressed up as your favorite holiday. \nThis is an 18+ event! \n \nBlack Rose/Crucible Members: $25\nGuests:$35\nYou must be a Crucible or Black Rose member or the guest of a member to attend. \nDoors open at 9PM \nThere will be non-alcoholic beverages available for purchase\, and plenty of complementary snacks. \nBlack Rose seeks to empower the community and celebrates diversity in gender\, race\, sexual orientation\, and abilities. We seek to foster an open and warm environment for all. \nHave questions about Black Rose? Find a friendly face at the social and chat them up! Interested in becoming a Black Rose Member? (you totally should) Click here! \nMasks are always welcome. \n 
URL:https://br.org/event/black-rose-presents-end-of-the-year-holiday-bash/
LOCATION:The Crucible\, 412 V St NE\, Washington\, DC\, United States
CATEGORIES:Socials
ATTACH;FMTTYPE=image/png:https://br.org/wp-content/uploads/2025/12/All_The_Holidays_1.png
ORGANIZER;CN="Socials Team":MAILTO:socials@br.org
END:VEVENT
END:VCALENDAR