BEGIN:VCALENDAR
VERSION:2.0
PRODID:-//Black Rose - ECPv6.15.20//NONSGML v1.0//EN
CALSCALE:GREGORIAN
METHOD:PUBLISH
X-ORIGINAL-URL:https://br.org
X-WR-CALDESC:Events for Black Rose
REFRESH-INTERVAL;VALUE=DURATION:PT1H
X-Robots-Tag:noindex
X-PUBLISHED-TTL:PT1H
BEGIN:VTIMEZONE
TZID:America/New_York
BEGIN:DAYLIGHT
TZOFFSETFROM:-0500
TZOFFSETTO:-0400
TZNAME:EDT
DTSTART:20230312T070000
END:DAYLIGHT
BEGIN:STANDARD
TZOFFSETFROM:-0400
TZOFFSETTO:-0500
TZNAME:EST
DTSTART:20231105T060000
END:STANDARD
BEGIN:DAYLIGHT
TZOFFSETFROM:-0500
TZOFFSETTO:-0400
TZNAME:EDT
DTSTART:20240310T070000
END:DAYLIGHT
BEGIN:STANDARD
TZOFFSETFROM:-0400
TZOFFSETTO:-0500
TZNAME:EST
DTSTART:20241103T060000
END:STANDARD
BEGIN:DAYLIGHT
TZOFFSETFROM:-0500
TZOFFSETTO:-0400
TZNAME:EDT
DTSTART:20250309T070000
END:DAYLIGHT
BEGIN:STANDARD
TZOFFSETFROM:-0400
TZOFFSETTO:-0500
TZNAME:EST
DTSTART:20251102T060000
END:STANDARD
END:VTIMEZONE
BEGIN:VEVENT
DTSTART;TZID=America/New_York:20240102T193000
DTEND;TZID=America/New_York:20240102T220000
DTSTAMP:20260425T093823
CREATED:20231202T005713Z
LAST-MODIFIED:20231202T005713Z
UID:10000106-1704223800-1704232800@br.org
SUMMARY:NO CLASS
DESCRIPTION:
URL:https://br.org/event/no-class-5/
LOCATION:DC
CATEGORIES:!Exception
END:VEVENT
BEGIN:VEVENT
DTSTART;TZID=America/New_York:20240104T194500
DTEND;TZID=America/New_York:20240104T213000
DTSTAMP:20260425T093823
CREATED:20230930T005343Z
LAST-MODIFIED:20230930T005343Z
UID:10000058-1704397500-1704403800@br.org
SUMMARY:BR Gateway - January 2024
DESCRIPTION:Black Rose (BR) Gateway is a great way to get a lot of information about the local kink community before you commit any unintentional faux pax because everyone (except you) knew about the community and social expectations. \nWe cover topics ranging from from Consent to Privacy\, Negotiations to Aftercare\, and ensure that everyone is aware of our aggressive stand against certain types of behaviors. You can learn more about what you can expect from BR Gateway by reading: \n\n\n\n\n\nThinking about attending Black Rose Gateway (overview of the program)\nGateway Attendee FAQ\n\n\n\n\n\nBR Gateway and Dungeon 101 work together like a lecture/lab combination class; you can get a lot from attending either one\, but you can get a lot more by attending both. \nGateway is in person at The Crucible. Proof of primary vaccination status is REQUIRED and masks are strongly encouraged (this is current in 2024). \n\nBR Gateway entry is only available for purchase at the door; Dungeon 101 tickets are the same. You cannot purchase D101 entry at BR Gateway. \nASL Interpreters are available upon request to accessibility@br.org. Please give us two weeks notice. \nEmail gateway@br.org for more information about this program\, or info@br.org for more information about Black Rose or its other events.
URL:https://br.org/event/br-gateway-202401/
LOCATION:The Crucible\, 412 V St NE\, Washington\, DC\, United States
CATEGORIES:Education,Gateway
ORGANIZER;CN="Gateway Team":MAILTO:gateway@br.org
END:VEVENT
BEGIN:VEVENT
DTSTART;TZID=America/New_York:20240108T183000
DTEND;TZID=America/New_York:20240108T210000
DTSTAMP:20260425T093823
CREATED:20231017T201834Z
LAST-MODIFIED:20231109T013855Z
UID:10000068-1704738600-1704747600@br.org
SUMMARY:D/s Discussion Group: Multiple Partners
DESCRIPTION:Come one and all to a group for the discussion of any and all topics D and s. This group is intended to be a resource for people of all levels of experience and\, as such\, everyone is encouraged to attend. Please bring all questions you may have about D/s\, M/s\, rituals\, victuals\, brats\, splats\, and mats. \nThe topic of this month’s discussion will be Multiple Partners in D/s. Although there is a topic for the discussion\, given the intent of this group to be a place for sharing\, we will not be strict about keeping to the topic. \nYou are free to arrive anytime after 6:30. Before the discussion starts\, there will be a chance to mingle and eat dinner. Please bring your own food or snacks if you want. Discussion will begin at 7:00. \nFor this event\, we will be hosting in our home in Arlington\, specifically North Highland\, roughly 10 minutes from Courthouse Metro. Parking is abundant but fills quickly in the evening. We will give the address to those who email ds@br.org. You must be vaccinated against COVID-19\, but we will not make you show your vaccine card.
URL:https://br.org/event/d-s-discussion-group-multiple-partners-2/
LOCATION:DC
CATEGORIES:D/s,Special Interest Groups
END:VEVENT
BEGIN:VEVENT
DTSTART;TZID=America/New_York:20240109T193000
DTEND;TZID=America/New_York:20240109T220000
DTSTAMP:20260425T093823
CREATED:20231122T011430Z
LAST-MODIFIED:20231122T011430Z
UID:10000092-1704828600-1704837600@br.org
SUMMARY:Whipflix and Chill with NotSoVeganRob
DESCRIPTION:Class Description\nA workshop on diversifying your whip throwing style. This will be a hands-on class getting into different types of throwing styles to add dynamics and creativity to your scene\, as well as techniques for safety routines that work well for leather or nylon single tails. \nPresenter Bio\nNotSoVeganRob and Alice are a M/S couple from the DMV with over a decade of combined experience in BDSM and power exchange relationships. \n\n**THIS IS AN IN-PERSON EVENT AND WILL NOT BE STREAMED. YOU MUST ATTEND IN PERSON. **\nAll ticket sales are at the door.\nProof of Vaccination will be required.\n\nTickets are $5 for Black Rose Members and Members of Reciprocal Groups with their Membership Card and $10 for non-members. \n\nEmail info@br.org for more information about Black Rose or its events. \nAccessibility accommodations are available upon request to accessibility@br.org. Please give us two weeks’ notice. \nIf you have questions or would like to request a class topic\, please email education@br.org
URL:https://br.org/event/whipflix-and-chill-with-notsoveganrob/
LOCATION:The Crucible\, 412 V St NE\, Washington\, DC\, United States
CATEGORIES:Education,Tuesday Night
ATTACH;FMTTYPE=image/png:https://br.org/wp-content/uploads/2023/11/BR-Education-Header-Photo.png
ORGANIZER;CN="Education Team":MAILTO:education@br.org
END:VEVENT
BEGIN:VEVENT
DTSTART;TZID=America/New_York:20240111T193000
DTEND;TZID=America/New_York:20240111T193000
DTSTAMP:20260425T093823
CREATED:20231110T012549Z
LAST-MODIFIED:20231110T012549Z
UID:10000089-1705001400-1705001400@br.org
SUMMARY:Board Meeting
DESCRIPTION:Please email info@br.org if you would like to attend.
URL:https://br.org/event/board-meeting-jan-2024/
LOCATION:DC
CATEGORIES:Board,Members Only
END:VEVENT
BEGIN:VEVENT
DTSTART;TZID=America/New_York:20240113T120000
DTEND;TZID=America/New_York:20240113T170000
DTSTAMP:20260425T093823
CREATED:20231109T013318Z
LAST-MODIFIED:20240524T004247Z
UID:10000074-1705147200-1705165200@br.org
SUMMARY:Tickle SIG play party
DESCRIPTION:Come laugh with us! \nWe ask all participants to review the rules and “What to Expect at a TickleSIG” party in the Tickle DC – Washington Metro Area Ticking group. \nTickle SIG party begins at noon and goes til 5pm on the 2nd Saturday of each month. Bring a pot luck dish – maybe even something inspired by Thanksgiving – and your toy bag. \nNo alcohol\, smoking or drugs are permitted\, and you must be fully vaccinated for COVID. \nWhether you are new to tickling or experienced\, you are welcome to join in on the fun.
URL:https://br.org/event/tickle-sig-play-party-events/2024-01-13/
LOCATION:Tickle SIG Herndon location\, Herndon\, VA\, United States
CATEGORIES:Special Interest Groups,Tickle
END:VEVENT
BEGIN:VEVENT
DTSTART;TZID=America/New_York:20240116T193000
DTEND;TZID=America/New_York:20240116T220000
DTSTAMP:20260425T093823
CREATED:20231122T011846Z
LAST-MODIFIED:20240116T025916Z
UID:10000093-1705433400-1705442400@br.org
SUMMARY:Bimbos A-Z with LuckyAlbatross and Captain Mike
DESCRIPTION:Class Description\n“Bimbo” is a common term\, but what does it really mean? Come join Captain Mike for a lecture and discussion of the bimbo phenomenon. Can bimbos be smart? Do bimbos have to be female? Can a bimbo be feminist? Whether you’re a bimbo yourself\, or just someone interested in the notion\, come join the party! \nExtra Hypnosis Skill Teaching: How does hypnotic bimbofication work\, and if someone is bimbofied\, what does that mean for the hypnotist and the hypnotee? \nPresenter Bio\nLiz/LuckyAlbatross has been active in the public scene since 1998. Bisexual\, open\, polyamorous\, switch\, slave\, Liz has been a member of Black Rose in DC\, the Baltimore Educational and Social Society (BESS)\, where she was elected as Secretary and Chair of the Board\, and Austin\, TX where she was Arbiter of the local group GWNN and Service Leader of Element. Currently living outside Philadelphia helping run a polyamorous social group and active in the Black Rose based annual hypnosis event\, Charmed. Her favorite fetishes are formal wear and connections and she greatly enjoys hypnosis and objectification. \nCaptain Mike is just a pirate navigating life in the 21st century. Her interests are varied\, and they can often be engaged in discussion about piracy\, history\, hypnosis\, polyamory\, kink\, film\, stories\, and costuming. She has presented at MagFest in DC\, Charmed in Baltimore\, Naughty Noel events\, and Wizard World in Philadelphia. Captain Mike is readily identified by her naturally curly hair and propensity for outrageous claims. \n\n**THIS IS AN IN-PERSON EVENT AND WILL NOT BE STREAMED. YOU MUST ATTEND IN PERSON. **\nAll ticket sales are at the door.\nProof of Vaccination will be required.\n\nTickets are $5 for Black Rose Members and Members of Reciprocal Groups with their Membership Card and $10 for non-members. \n\nEmail info@br.org for more information about Black Rose or its events. \nAccessibility accommodations are available upon request to accessibility@br.org. Please give us two weeks’ notice. \nIf you have questions or would like to request a class topic\, please email education@br.org
URL:https://br.org/event/bimbos-a-z-with-luckyalbatross-and-captain-mike/
LOCATION:The Crucible\, 412 V St NE\, Washington\, DC\, United States
CATEGORIES:Education,Tuesday Night
ATTACH;FMTTYPE=image/png:https://br.org/wp-content/uploads/2023/11/BR-tuesday-logo.png
ORGANIZER;CN="Education Team":MAILTO:education@br.org
END:VEVENT
BEGIN:VEVENT
DTSTART;TZID=America/New_York:20240123T193000
DTEND;TZID=America/New_York:20240123T220000
DTSTAMP:20260425T093823
CREATED:20231122T012341Z
LAST-MODIFIED:20240119T171434Z
UID:10000094-1706038200-1706047200@br.org
SUMMARY:Pup Play 101 with SincX
DESCRIPTION:Class Description\nPuppy and Pet Play has seen a dramatic increase in interest over the past few years. But what does Puppy and Pet Play even mean in the present day? Where did it come from? Why do people do it? How does one get started? In this class we will provide an introduction to Puppy and Pet Play answer these questions\, and perhaps spark some new ideas as to how you can incorporate aspects of Puppy and Pet Play into your activities. \nPresenter Bio\nSincX is a mad scientist\, cyber puppy/pony\, kinky maker\, furry\, skill-sharer\, and all-round international kinkster. He has been associated with The Crucible for over a decade\, bounced around the world being a puppy on 4 continents for over 7 years\, and on the board of Capital Pups and Handlers since 2019. He now runs the Puppy and Pet Play Gatherings\, and D101 stations\, at The Crucible.  \n\n**THIS IS AN IN-PERSON EVENT AND WILL NOT BE STREAMED. YOU MUST ATTEND IN PERSON. **\nAll ticket sales are at the door.\nProof of Vaccination NO LONGER will be required.\n\nTickets are $5 for Black Rose Members and Members of Reciprocal Groups with their Membership Card and $10 for non-members. \n\nEmail info@br.org for more information about Black Rose or its events. \nAccessibility accommodations are available upon request to accessibility@br.org. Please give us two weeks’ notice. \nIf you have questions or would like to request a class topic\, please email education@br.org
URL:https://br.org/event/pup-play-101-with-sincx/
LOCATION:The Crucible\, 412 V St NE\, Washington\, DC\, United States
CATEGORIES:Education,Tuesday Night
ATTACH;FMTTYPE=image/png:https://br.org/wp-content/uploads/2023/11/BR-tuesday-logo.png
END:VEVENT
BEGIN:VEVENT
DTSTART;TZID=America/New_York:20240125T183000
DTEND;TZID=America/New_York:20240125T200000
DTSTAMP:20260425T093823
CREATED:20231201T194616Z
LAST-MODIFIED:20231201T194616Z
UID:10000096-1706207400-1706212800@br.org
SUMMARY:New and Curious Kinksters
DESCRIPTION:Black Rose’s New and Curious Kinksters (or NaCK)\, is a discussion group designed for people who are new(ish) to the scene. While we highly recommend all new kinksters check out Gateway (the first/last Thursday of each month – always the day before D101) and Dungeon 101 (the first Friday of each month) and come with questions about their experiences\, it is not required\, and we welcome anyone new to kink. Please note NaCK is for asking questions\, there will be no presentation or monologuing. \nWe meet the 4th Thursday of the month from 6:30 to 8:00pm. We are going to try out having virtual NaCK. I know many of us have Zoom fatigue\, but this is a more responsible approach. We’ll chat about whatever comes up – everything from “what do I wear to the club?” to “I had this great scene\, but this part didn’t go well. What do you suggest?” NaCK has a rotating group of experienced kinksters come in to answer questions\, so the discussion is always a little bit different\, and we aim to provide a variety of answers from different D/s roles\, genders\, races\, and backgrounds. \nIf you are still in the beginning of your kink journey\, we hope you’ll come join us to ask questions and share advice. We’d love to have you!
URL:https://br.org/event/nack-2024/2024-01-25/
LOCATION:DC
CATEGORIES:NaCK,Special Interest Groups
ORGANIZER;CN="NaCK SIG":MAILTO:nack@br.org
END:VEVENT
BEGIN:VEVENT
DTSTART;TZID=America/New_York:20240130T193000
DTEND;TZID=America/New_York:20240130T220000
DTSTAMP:20260425T093823
CREATED:20231202T011432Z
LAST-MODIFIED:20240119T171404Z
UID:10000107-1706643000-1706652000@br.org
SUMMARY:Vetting and Keeping Yourself Safe with AJ Renard
DESCRIPTION:Class Description\nWe all know the importance of vetting\, but are we really doing it effectively? What other tools and resources do you have to keep yourself safe? This workshop focuses on how to vet a potential partner\, questions to ask\, how to evaluate the answers\, and some of the tools at your disposal. We will also discuss keeping yourself safe during your initial meeting and play\, as well as red flags that can be hidden further down the line. \nPresenter Bio\nAJ Renard (she/her) has been involved in the BDSM world her entire adult life\, although she was a dark little thing far before that. AJ works in the mental health field and has a deep passion for teaching about BDSM and consent. She finds her happy place when there is rope\, electricity\, knives\, boots\, fear\, and a lot of crying involved. In her limited free time she makes custom chainmaille for her shop\, Foxy Feisty Redhead. \nAJ teaches a variety of classes about consent\, negotiations\, perspectives on D/s\, bottoming for intense scenes and edge play\, mental health and BDSM\, and behavioral science in PE dynamics. She also loves demo bottoming for Violet Wand demos\, and things that make her shy in front of groups of people. \n\n**THIS IS AN IN-PERSON EVENT AND WILL NOT BE STREAMED. YOU MUST ATTEND IN PERSON. **\nAll ticket sales are at the door.\nProof of Vaccination will NO LONGER be required.\n\nTickets are $5 for Black Rose Members and Members of Reciprocal Groups with their Membership Card and $10 for non-members. \n\nEmail info@br.org for more information about Black Rose or its events. \nAccessibility accommodations are available upon request to accessibility@br.org. Please give us two weeks’ notice. \nIf you have questions or would like to request a class topic\, please email education@br.org
URL:https://br.org/event/vetting-and-keeping-yourself-safe-with-aj-renard/
LOCATION:The Crucible\, 412 V St NE\, Washington\, DC\, United States
CATEGORIES:Education,Tuesday Night
ATTACH;FMTTYPE=image/png:https://br.org/wp-content/uploads/2023/11/BR-tuesday-logo.png
ORGANIZER;CN="Education Team":MAILTO:education@br.org
END:VEVENT
END:VCALENDAR